BEGIN:VCALENDAR
VERSION:2.0
PRODID:-//Jugendarbeit Klosters - ECPv6.15.13.1//NONSGML v1.0//EN
CALSCALE:GREGORIAN
METHOD:PUBLISH
X-WR-CALNAME:Jugendarbeit Klosters
X-ORIGINAL-URL:https://jugendarbeit-klosters.ch
X-WR-CALDESC:Veranstaltungen für Jugendarbeit Klosters
REFRESH-INTERVAL;VALUE=DURATION:PT1H
X-Robots-Tag:noindex
X-PUBLISHED-TTL:PT1H
BEGIN:VTIMEZONE
TZID:Europe/Zurich
BEGIN:DAYLIGHT
TZOFFSETFROM:+0100
TZOFFSETTO:+0200
TZNAME:CEST
DTSTART:20250330T010000
END:DAYLIGHT
BEGIN:STANDARD
TZOFFSETFROM:+0200
TZOFFSETTO:+0100
TZNAME:CET
DTSTART:20251026T010000
END:STANDARD
BEGIN:DAYLIGHT
TZOFFSETFROM:+0100
TZOFFSETTO:+0200
TZNAME:CEST
DTSTART:20260329T010000
END:DAYLIGHT
BEGIN:STANDARD
TZOFFSETFROM:+0200
TZOFFSETTO:+0100
TZNAME:CET
DTSTART:20261025T010000
END:STANDARD
BEGIN:DAYLIGHT
TZOFFSETFROM:+0100
TZOFFSETTO:+0200
TZNAME:CEST
DTSTART:20270328T010000
END:DAYLIGHT
BEGIN:STANDARD
TZOFFSETFROM:+0200
TZOFFSETTO:+0100
TZNAME:CET
DTSTART:20271031T010000
END:STANDARD
END:VTIMEZONE
BEGIN:VEVENT
DTSTART;TZID=Europe/Zurich:20260213T180000
DTEND;TZID=Europe/Zurich:20260213T220000
DTSTAMP:20260421T183918
CREATED:20260109T221919Z
LAST-MODIFIED:20260109T222050Z
UID:140-1771005600-1771020000@jugendarbeit-klosters.ch
SUMMARY:Jugendraum in der alten Kita
DESCRIPTION:In der Regel wird der Jugendraum an einem Freitag von 18 Uhr bis 22 Uhr geöffnet.\nPrimarschülerinnen und Primarschüler können jeweils bis 21 Uhr bleiben.\nAb 21 Uhr ist der Zugang ausschliesslich für die Oberstufenschülerinnen und Oberstufenschüler.
URL:https://jugendarbeit-klosters.ch/event/jugendraum-in-der-alten-kita-clone/
LOCATION:Hintere Rathausgasse 8\, Hintere Rathausgasse 8\, Klosters\, 7250\, Switzerland
END:VEVENT
END:VCALENDAR