BEGIN:VCALENDAR
VERSION:2.0
PRODID:-//Jugendarbeit Klosters - ECPv6.15.13.1//NONSGML v1.0//EN
CALSCALE:GREGORIAN
METHOD:PUBLISH
X-ORIGINAL-URL:https://jugendarbeit-klosters.ch
X-WR-CALDESC:Veranstaltungen für Jugendarbeit Klosters
REFRESH-INTERVAL;VALUE=DURATION:PT1H
X-Robots-Tag:noindex
X-PUBLISHED-TTL:PT1H
BEGIN:VTIMEZONE
TZID:UTC
BEGIN:STANDARD
TZOFFSETFROM:+0000
TZOFFSETTO:+0000
TZNAME:UTC
DTSTART:20240101T000000
END:STANDARD
END:VTIMEZONE
BEGIN:VEVENT
DTSTART;TZID=UTC:20251107T180000
DTEND;TZID=UTC:20251107T220000
DTSTAMP:20260421T222901
CREATED:20250831T185607Z
LAST-MODIFIED:20250831T185620Z
UID:117-1762538400-1762552800@jugendarbeit-klosters.ch
SUMMARY:Jugendraum
DESCRIPTION:In der Regel wird der Jugendraum an einem Freitag von 18 Uhr bis 22 Uhr geöffnet.\nPrimarschülerinnen und Primarschüler können jeweils bis 21 Uhr bleiben.\nAb 21 Uhr ist der Zugang ausschliesslich für die Oberstufenschülerinnen und Oberstufenschüler.
URL:https://jugendarbeit-klosters.ch/event/jugendraum-clone-2/
LOCATION:Luftschutzanlage\, Alte Landstrasse\, Klosters Dorf\, 7252\, Switzerland
END:VEVENT
BEGIN:VEVENT
DTSTART;TZID=UTC:20251114T180000
DTEND;TZID=UTC:20251114T220000
DTSTAMP:20260421T222901
CREATED:20250831T185649Z
LAST-MODIFIED:20250906T074349Z
UID:120-1763143200-1763157600@jugendarbeit-klosters.ch
SUMMARY:Jugendraum
DESCRIPTION:In der Regel wird der Jugendraum an einem Freitag von 18 Uhr bis 22 Uhr geöffnet.\nPrimarschülerinnen und Primarschüler können jeweils bis 21 Uhr bleiben.\nAb 21 Uhr ist der Zugang ausschliesslich für die Oberstufenschülerinnen und Oberstufenschüler.
URL:https://jugendarbeit-klosters.ch/event/jugendraum-6/
LOCATION:Luftschutzanlage\, Alte Landstrasse\, Klosters Dorf\, 7252\, Switzerland
END:VEVENT
END:VCALENDAR