BEGIN:VCALENDAR
VERSION:2.0
PRODID:-//Jugendarbeit Klosters - ECPv6.15.13.1//NONSGML v1.0//EN
CALSCALE:GREGORIAN
METHOD:PUBLISH
X-WR-CALNAME:Jugendarbeit Klosters
X-ORIGINAL-URL:https://jugendarbeit-klosters.ch
X-WR-CALDESC:Veranstaltungen für Jugendarbeit Klosters
REFRESH-INTERVAL;VALUE=DURATION:PT1H
X-Robots-Tag:noindex
X-PUBLISHED-TTL:PT1H
BEGIN:VTIMEZONE
TZID:UTC
BEGIN:STANDARD
TZOFFSETFROM:+0000
TZOFFSETTO:+0000
TZNAME:UTC
DTSTART:20240101T000000
END:STANDARD
END:VTIMEZONE
BEGIN:VEVENT
DTSTART;TZID=UTC:20250903T170000
DTEND;TZID=UTC:20250903T200000
DTSTAMP:20260422T012056
CREATED:20250831T165144Z
LAST-MODIFIED:20250831T185845Z
UID:110-1756918800-1756929600@jugendarbeit-klosters.ch
SUMMARY:Tag der offenen Türe
DESCRIPTION:Wir laden alle Eltern und jüngeren Geschwister ein\, den Jugendraum und das Team kennen zu lernen.
URL:https://jugendarbeit-klosters.ch/event/tag-der-offenen-tuere/
LOCATION:Luftschutzanlage\, Alte Landstrasse\, Klosters Dorf\, 7252\, Switzerland
END:VEVENT
BEGIN:VEVENT
DTSTART;TZID=UTC:20250905T180000
DTEND;TZID=UTC:20250905T220000
DTSTAMP:20260422T012056
CREATED:20250831T164952Z
LAST-MODIFIED:20250831T165033Z
UID:108-1757095200-1757109600@jugendarbeit-klosters.ch
SUMMARY:Jugendraum
DESCRIPTION:In der Regel wird der Jugendraum an einem Freitag von 18 Uhr bis 22 Uhr geöffnet.\nPrimarschülerinnen und Primarschüler können jeweils bis 21 Uhr bleiben.\nAb 21 Uhr ist der Zugang ausschliesslich für die Oberstufenschülerinnen und Oberstufenschüler.
URL:https://jugendarbeit-klosters.ch/event/jugendraum-3/
LOCATION:Luftschutzanlage\, Alte Landstrasse\, Klosters Dorf\, 7252\, Switzerland
END:VEVENT
BEGIN:VEVENT
DTSTART;TZID=UTC:20250919T180000
DTEND;TZID=UTC:20250919T220000
DTSTAMP:20260422T012056
CREATED:20250831T165258Z
LAST-MODIFIED:20250831T165258Z
UID:112-1758304800-1758319200@jugendarbeit-klosters.ch
SUMMARY:Jugendraum
DESCRIPTION:In der Regel wird der Jugendraum an einem Freitag von 18 Uhr bis 22 Uhr geöffnet.\nPrimarschülerinnen und Primarschüler können jeweils bis 21 Uhr bleiben.\nAb 21 Uhr ist der Zugang ausschliesslich für die Oberstufenschülerinnen und Oberstufenschüler.
URL:https://jugendarbeit-klosters.ch/event/jugendraum-4/
LOCATION:Luftschutzanlage\, Alte Landstrasse\, Klosters Dorf\, 7252\, Switzerland
END:VEVENT
END:VCALENDAR