BEGIN:VCALENDAR
VERSION:2.0
PRODID:-//Jugendarbeit Klosters - ECPv6.15.13.1//NONSGML v1.0//EN
CALSCALE:GREGORIAN
METHOD:PUBLISH
X-ORIGINAL-URL:https://jugendarbeit-klosters.ch
X-WR-CALDESC:Veranstaltungen für Jugendarbeit Klosters
REFRESH-INTERVAL;VALUE=DURATION:PT1H
X-Robots-Tag:noindex
X-PUBLISHED-TTL:PT1H
BEGIN:VTIMEZONE
TZID:UTC
BEGIN:STANDARD
TZOFFSETFROM:+0000
TZOFFSETTO:+0000
TZNAME:UTC
DTSTART:20250101T000000
END:STANDARD
END:VTIMEZONE
BEGIN:VEVENT
DTSTART;TZID=UTC:20260509T100000
DTEND;TZID=UTC:20260509T140000
DTSTAMP:20260423T134505
CREATED:20260417T151616Z
LAST-MODIFIED:20260417T160955Z
UID:233-1778320800-1778335200@jugendarbeit-klosters.ch
SUMMARY:Jugendraum Spezialaktivität
DESCRIPTION:Der Jugendraum ist an diesem Samstag von 10:00 Uhr bis 14:00 Uhr geöffnet. \nVon 10:00 Uhr bis 12:00 Uhr ist der Jugendraum nur für Mädchen geöffnet.\nAb 12:00 Uhr sind auch die Jungs herzlich willkommen. \nAb 12:30 Uhr gibt es Zmittag.
URL:https://jugendarbeit-klosters.ch/event/jugendraum-spezialaktivitaet/
LOCATION:Luftschutzanlage\, Alte Landstrasse\, Klosters Dorf\, 7252\, Switzerland
END:VEVENT
END:VCALENDAR