BEGIN:VCALENDAR
VERSION:2.0
PRODID:-//Jugendarbeit Klosters - ECPv6.15.13.1//NONSGML v1.0//EN
CALSCALE:GREGORIAN
METHOD:PUBLISH
X-WR-CALNAME:Jugendarbeit Klosters
X-ORIGINAL-URL:https://jugendarbeit-klosters.ch
X-WR-CALDESC:Veranstaltungen für Jugendarbeit Klosters
REFRESH-INTERVAL;VALUE=DURATION:PT1H
X-Robots-Tag:noindex
X-PUBLISHED-TTL:PT1H
BEGIN:VTIMEZONE
TZID:UTC
BEGIN:STANDARD
TZOFFSETFROM:+0000
TZOFFSETTO:+0000
TZNAME:UTC
DTSTART:20250101T000000
END:STANDARD
END:VTIMEZONE
BEGIN:VEVENT
DTSTART;TZID=UTC:20260325T160000
DTEND;TZID=UTC:20260325T190000
DTSTAMP:20260421T183304
CREATED:20260311T185515Z
LAST-MODIFIED:20260311T185515Z
UID:205-1774454400-1774465200@jugendarbeit-klosters.ch
SUMMARY:Jugendraum
DESCRIPTION:In der Regel wird der Jugendraum an einem Mittwoch von 16 Uhr bis 19 Uhr geöffnet.
URL:https://jugendarbeit-klosters.ch/event/jugendraum-12/
LOCATION:Luftschutzanlage\, Alte Landstrasse\, Klosters Dorf\, 7252\, Switzerland
END:VEVENT
END:VCALENDAR